BEGIN:VCALENDAR
VERSION:2.0
CALSCALE:GREGORIAN
METHOD:PUBLISH
X-WR-TIMEZONE:Australia/Sydney
BEGIN:VTIMEZONE
TZID:Australia/Sydney
BEGIN:STANDARD
TZNAME:AEST
END:STANDARD
END:VTIMEZONE
BEGIN:VEVENT
DTSTART;TZID=Australia/Sydney:20190326
DTEND;TZID=Australia/Sydney:20190326
DTSTAMP:20190227T062002
UID:31
SUMMARY:Harmony Day
DESCRIPTION:




Harmony Day is a day to celebrate Australian multiculturalism, based on the successful integration of migrants into our community.
Australia is the most successful multicultural country on earth and we should celebrate this and work to maintain it.
Harmony Day is about inclusiveness, respect and belonging for all Australians, regardless of cultural or linguistic background, united by a set of core Australian values.


SEQUENCE:0
STATUS:CONFIRMED
TRANSP:OPAQUE
END:VEVENT
END:VCALENDAR