BEGIN:VCALENDAR
VERSION:2.0
CALSCALE:GREGORIAN
METHOD:PUBLISH
X-WR-TIMEZONE:Australia/Sydney
BEGIN:VTIMEZONE
TZID:Australia/Sydney
BEGIN:STANDARD
TZNAME:AEST
END:STANDARD
END:VTIMEZONE
BEGIN:VEVENT
DTSTART;TZID=Australia/Sydney:20190301
DTEND;TZID=Australia/Sydney:20190301
DTSTAMP:20190227T061858
UID:30
SUMMARY:Clean Up Australia Day
DESCRIPTION:




A Schools Clean Up is a great way to inspire students to learn about the impact of rubbish on their local environment while playing an active role in their community.
It's a day when students and teachers work together to clean up an area which is special to the community.
It can be the play ground, a local park, or maybe bushland near your school - the options are up to you.


SEQUENCE:0
STATUS:CONFIRMED
TRANSP:OPAQUE
END:VEVENT
END:VCALENDAR